BEGIN:VCALENDAR
VERSION:2.0
PRODID:-//shopware AG//community-hub//EN
NAME: Shopware Community Events
X-WR-CALNAME:Shopware Community Events
X-WR-TIMEZONE:Europe/Berlin
BEGIN:VEVENT
UID:32dcd205-802e-4749-9edd-5018e03d8e8a@shopware.com
DTSTAMP:20260610T080000Z
DTSTART:20260610T080000Z
DTEND:20260611T000000Z
SUMMARY;LANGUAGE=en:Shopware Community Day
DESCRIPTION;LANGUAGE=en:Ready to be part of something extraordinary? Join o
 ur network of merchants, developers, and industry leaders as we drive real 
 impact, uncover actionable insights, and unveil what’s next. Be part of the
  celebration. https://scd.shopware.com/en-US
LOCATION;LANGUAGE=en:Cologne, DE
URL:https://scd.shopware.com/en-US
IMAGE;VALUE=URI;DISPLAY=THUMBNAIL;FMTTYPE=image/png:https://images.ctfassets.net/nqzs8zsepqpi/2HMsvuAd9v5Oy2KEZuEk7Z/d7f2a18c510adb5287bbf505585d028e/SCD26_Logo_Regular_night-blue.png
END:VEVENT
BEGIN:VEVENT
UID:c3e9bd6e-a4f2-42ae-82b3-17d2cdb07065@shopware.com
DTSTAMP:20260923T070000Z
DTSTART:20260923T070000Z
DTEND:20260924T163000Z
SUMMARY;LANGUAGE=en:DMEXCO
DESCRIPTION;LANGUAGE=en:The countdown is on! On September 23-24, 2026, the 
 big players in digital commerce will gather at DMEXCO in Cologne. Visit us 
 at our both and discover the latest tech trends to bring your ecommerce vis
 ion to life together! https://dmexco.com/
LOCATION;LANGUAGE=en:Messeplatz 1, Cologne
URL:https://dmexco.com/
IMAGE;VALUE=URI;DISPLAY=THUMBNAIL;FMTTYPE=image/png:https://images.ctfassets.net/nqzs8zsepqpi/6N0TFI18x5FHgyTZCG2Vim/ee135fa14a485b11c3231e4134e3324a/DMEXCO_Logo.png
END:VEVENT
BEGIN:VEVENT
UID:2c6a6e4e-b196-4e53-9813-cfe97ad17d34@shopware.com
DTSTAMP:20260611T100000Z
DTSTART:20260611T100000Z
DTEND:20260612T030000Z
SUMMARY;LANGUAGE=en:E-Commerce OpenAir BBQ
DESCRIPTION;LANGUAGE=en:E‑Commerce BBQ ist ein jährliches Open-Air-Event in
  Karlsruhe für E‑Commerce-Profis. Es kombiniert praxisnahe Vorträge und Wor
 kshops mit entspanntem Networking bei BBQ, Drinks und Festival-Atmosphäre. 
 Zielgruppe sind Shopbetreiber:innen, Agenturen und Tech-Anbieter. Der Fokus
  liegt auf aktuellen Themen wie KI, Marketing, Logistik und B2B-Commerce – 
 ohne steife Business-Stimmung, dafür mit echtem Austausch. https://www.ecom
 merce-bbq.net?utm_source=shopware&utm_medium=community&utm_id=partner
LOCATION;LANGUAGE=en:hubRaum Durlach, Untere Hub 1, Karlsruhe, DE
URL:https://www.ecommerce-bbq.net?utm_source=shopware&utm_medium=community&utm_
 id=partner
IMAGE;VALUE=URI;DISPLAY=THUMBNAIL;FMTTYPE=image/png:https://img.evbuc.com/https%3A%2F%2Fcdn.evbuc.com%2Fimages%2F1044532113%2F2753871733431%2F1%2Foriginal.20250603-064821?w=940&auto=format%2Ccompress&q=75&sharp=10&rect=0%2C0%2C940%2C470&s=be5e36bb1be5c331f10fcb25ad1e8d48
END:VEVENT
BEGIN:VEVENT
UID:1b4b7d25-14d1-4176-b268-824ab40dae0c@shopware.com
DTSTAMP:20260428T123000Z
DTSTART:20260428T123000Z
DTEND:20260429T134500Z
SUMMARY;LANGUAGE=en:Digital 1to1 Italy Spring
DESCRIPTION;LANGUAGE=en:The professional meeting for digital sector leaders
 , where companies, retailers, brands, and innovative solutions come togethe
 r to drive growth and tackle future challenges together. https://digital1to
 1.com/it/italy-spring/?lang=en
LOCATION;LANGUAGE=en:Via Salvatore Rebecchini 39, Rome
URL:https://digital1to1.com/it/italy-spring/?lang=en
IMAGE;VALUE=URI;DISPLAY=THUMBNAIL;FMTTYPE=image/png:https://images.ctfassets.net/nqzs8zsepqpi/qCmhTzk17t1lJqGFjqQWJ/7a33f4222282910a4ffefdcd16c481fc/Digital_1to1_Logo.png
END:VEVENT
BEGIN:VEVENT
UID:1dbcd1d5-fa1a-4075-9765-aa141ef05837@shopware.com
DTSTAMP:20260506T063000Z
DTSTART:20260506T063000Z
DTEND:20260507T160000Z
SUMMARY;LANGUAGE=en:Netcomm Forum 2026
DESCRIPTION;LANGUAGE=en:How e-commerce and digital are revolutionizing comm
 erce, companies and supply chains, permeating every commercial relationship
 , and becoming a fundamental lever for revitalizing territories and promoti
 ng Made in Italy. https://www.shopware.com/it/events/netcomm-forum/
LOCATION;LANGUAGE=en:Allianz MiCo, Viale Lodovico Scarampo, Milan
URL:https://www.shopware.com/it/events/netcomm-forum/
IMAGE;VALUE=URI;DISPLAY=THUMBNAIL;FMTTYPE=image/png:https://images.ctfassets.net/nqzs8zsepqpi/74S4w32ndpk5bpH4OezclX/6ed6c849c93adfa379178d92149ecc5b/NetcommForum_RGB.png
END:VEVENT
BEGIN:VEVENT
UID:2506604a-3a34-482e-8e7c-51edf60902da@shopware.com
DTSTAMP:20260609T170000Z
DTSTART:20260609T170000Z
DTEND:20260609T235500Z
SUMMARY;LANGUAGE=en:Das inoffizielle Webmatch SCD WarmUp
DESCRIPTION;LANGUAGE=en:Am Vorabend des Shopware Community Day laden wir zu
 m lockeren Get-together nach Köln ein. In exklusivem Rahmen treffen sich Hä
 ndler, Technologieanbieter, Agenturen und Shopware-Enthusiasten – ganz ohne
  Programm, aber mit allem, was ein guter Auftakt braucht: Drinks, Fingerfoo
 d und spannende Gespräche.  Das Pre-Event bietet eine ideale Gelegenheit zu
 m Netzwerken, Ankommen und Austauschen für alle, die bereits am Vortag des 
 SCD in Köln sind. https://scdwarmup.webmatch.de/
LOCATION;LANGUAGE=en:Café Fleur, Lindenstraße 10, Köln
URL:https://scdwarmup.webmatch.de/
IMAGE;VALUE=URI;DISPLAY=THUMBNAIL;FMTTYPE=image/png:https://cdn.prod.website-files.com/68263b45740f653d30d29fa5/69a727beb64c806bbddcc23a_SCD-WarmUp_2026_Logo.png
END:VEVENT
BEGIN:VEVENT
UID:9b57b62a-78a3-4d9a-9d0c-8d4e3c83b26c@shopware.com
DTSTAMP:20260521T130000Z
DTSTART:20260521T130000Z
DTEND:20260521T200000Z
SUMMARY;LANGUAGE=en:5. Shopware Meetup Oberfranken - Spring Edition
DESCRIPTION;LANGUAGE=en:Das WIRDUZEN Shopware Meetup im Frühling in Forchhe
 im in neuer Location. https://www.eventbrite.de/e/save-the-date-5-shopware-
 meetup-oberfranken-spring-edition-tickets-1985571423578
LOCATION;LANGUAGE=en:Bayreuther Straße 4, Forchheim
URL:https://www.eventbrite.de/e/save-the-date-5-shopware-meetup-oberfranken-spr
 ing-edition-tickets-1985571423578
IMAGE;VALUE=URI;DISPLAY=THUMBNAIL;FMTTYPE=image/png:https://www.eventbrite.de/e/_next/image?url=https%3A%2F%2Fimg.evbuc.com%2Fhttps%253A%252F%252Fcdn.evbuc.com%252Fimages%252F1180304960%252F1370583763583%252F1%252Foriginal.20260320-104153%3Fcrop%3Dfocalpoint%26fit%3Dcrop%26w%3D940%26auto%3Dformat%252Ccompress%26q%3D75%26sharp%3D10%26fp-x%3D0.5%26fp-y%3D0.5%26s%3D77f3eb5807492f948ee2ca5367855824&w=940&q=75
END:VEVENT
BEGIN:VEVENT
UID:7efe6868-af71-4745-af50-d83c9df7a209@shopware.com
DTSTAMP:20260507T070000Z
DTSTART:20260507T070000Z
DTEND:20260508T000000Z
SUMMARY;LANGUAGE=en:Emerce B2B Digital
DESCRIPTION;LANGUAGE=en:The lines between B2B, D2C, marketplaces, and platf
 orms are blurring. Buyers expect consistency in pricing and service. They’r
 e searching less and asking more questions. How do you stay visible when AI
  is leading the conversation? https://www.b2bdigital.emerce.nl/tickets
LOCATION;LANGUAGE=en:Otto Reuchlinweg 996, Rotterdam
URL:https://www.b2bdigital.emerce.nl/tickets
IMAGE;VALUE=URI;DISPLAY=THUMBNAIL;FMTTYPE=image/png:https://images.ctfassets.net/nqzs8zsepqpi/7h6IxDmwtahk569An54bIR/63a8c9c1a6dec833fb4a651ffa2e1aca/Emerce_Logo.png
END:VEVENT
BEGIN:VEVENT
UID:b3db76e1-e95e-4fcd-9d16-7084e20ed6b9@shopware.com
DTSTAMP:20260528T070000Z
DTSTART:20260528T070000Z
DTEND:20260529T000000Z
SUMMARY;LANGUAGE=en:Emerce E-Commerce Live!
DESCRIPTION;LANGUAGE=en:AI across the board: from agents and content creato
 rs to AI in internal processes. Personalization reaches a new level with au
 tomated user testing and AI-driven feedback analysis. Search is transformin
 g the path to purchase. https://www.ecommercelive.nl/tickets
LOCATION;LANGUAGE=en:Damrak 243, Amsterdam
URL:https://www.ecommercelive.nl/tickets
IMAGE;VALUE=URI;DISPLAY=THUMBNAIL;FMTTYPE=image/png:https://images.ctfassets.net/nqzs8zsepqpi/7h6IxDmwtahk569An54bIR/63a8c9c1a6dec833fb4a651ffa2e1aca/Emerce_Logo.png
END:VEVENT
BEGIN:VEVENT
UID:bb0e7014-76d0-437e-9f11-5320e0cbaed2@shopware.com
DTSTAMP:20260623T080000Z
DTSTART:20260623T080000Z
DTEND:20260624T160000Z
SUMMARY;LANGUAGE=en:K5 Conference 2026
DESCRIPTION;LANGUAGE=en:On June 23–24, 2026, Berlin will once again become 
 the hotspot for the e-commerce industry https://konferenz.k5.de/#tickets
LOCATION;LANGUAGE=en:Sonnenallee 225, Berlin
URL:https://konferenz.k5.de/#tickets
IMAGE;VALUE=URI;DISPLAY=THUMBNAIL;FMTTYPE=image/png:https://images.ctfassets.net/nqzs8zsepqpi/7c6Xq5Hdq1l7wWyKeUt6O4/04c43a3b877d83945245281f60be16e4/K5_2026.png
END:VEVENT
BEGIN:VEVENT
UID:efd269a4-5b08-475b-a1a9-5efcaacad578@shopware.com
DTSTAMP:20260915T160000Z
DTSTART:20260915T160000Z
DTEND:20260916T030000Z
SUMMARY;LANGUAGE=en:Shoptoberfest North America
DESCRIPTION;LANGUAGE=en:We are planning for an even bigger event for 2026, 
 and will be hosting it in Nashville at a new venue this year.  https://www.
 shopware.com/en/events/shoptoberfest/
LOCATION;LANGUAGE=en:Nashville, TN
URL:https://www.shopware.com/en/events/shoptoberfest/
IMAGE;VALUE=URI;DISPLAY=THUMBNAIL;FMTTYPE=image/png:https://images.ctfassets.net/nqzs8zsepqpi/6y1pswquk4r31i7HmkiM5x/23dca8abb533780f741292410d785448/Shoptoberfest_big_logo.png
END:VEVENT
BEGIN:VEVENT
UID:9a153001-1676-4fee-aea1-9f59fbae8dd4@shopware.com
DTSTAMP:20260428T170000Z
DTSTART:20260428T170000Z
DTEND:20260428T200000Z
SUMMARY;LANGUAGE=en:Shopware Stammtisch München - 28. April 2026
DESCRIPTION;LANGUAGE=en:Am 28. April 2026 findet der 10. Shopware Stammtisc
 h in München statt. Hierzu lädt Mothership (https://www.mothership.de) in d
 ie Elvirastraße 25 in 80636 München https://goo.gl/maps/85HHnDZUH9x ein.  D
 er Stammtisch richtet sich an alle, die sich für Shopware oder E-Commerce i
 nteressieren oder damit arbeiten. Ob Entwickler, Shopbetreiber oder Start-u
 p – beim Shopware-Stammtisch in München ist jeder willkommen.  Geboten werd
 en neben Erfrischungsgetränken und Fingerfood auch Talks und eine freundlic
 he Gesprächsrunde.  AGENDA: 19:00 - Get-Together mit Drinks und Fingerfood 
 [30min] - PayPal beyond the button - From features to marketplaces you dont
  know about (Stefan Martens - Paypal) [30min] - TBA  im Anschluss Drinks un
 d nette Unterhaltungen. https://www.meetup.com/shopware-muenchen/events/314
 213547/
LOCATION;LANGUAGE=en:Mothership GmbH , Elvirastraße 25 · München, BY  Mothership - 2. OG im Rgb., München
URL:https://www.meetup.com/shopware-muenchen/events/314213547/
IMAGE;VALUE=URI;DISPLAY=THUMBNAIL;FMTTYPE=image/webp:https://secure.meetupstatic.com/photos/event/9/6/9/a/highres_502598554.webp?w=1080
END:VEVENT
BEGIN:VEVENT
UID:3d9e4a5f-6f48-4ec1-8f82-67783522fa2a@shopware.com
DTSTAMP:20260520T060000Z
DTSTART:20260520T060000Z
DTEND:20260520T200000Z
SUMMARY;LANGUAGE=en:SCORE!
DESCRIPTION;LANGUAGE=en:The event that brings together the Swiss retail and
  ecommerce industry with inspiring keynotes, deep dives, and valuable netwo
 rking https://score.swiss
LOCATION;LANGUAGE=en:Elias-Canetti-Strasse 146, Zurich
URL:https://score.swiss
IMAGE;VALUE=URI;DISPLAY=THUMBNAIL;FMTTYPE=image/crdownload:https://images.ctfassets.net/nqzs8zsepqpi/7a6zybuflW0exH2A0pZY3y/35dbd05feaf05d3e8a00bbc446d420af/score_logo_freigestellt_58px.png.crdownload
END:VEVENT
BEGIN:VEVENT
UID:e16613b5-4b85-4037-b56c-c8a0cf71b5e5@shopware.com
DTSTAMP:20260708T070000Z
DTSTART:20260708T070000Z
DTEND:20260708T190000Z
SUMMARY;LANGUAGE=en:Shopware Circle München 2026
DESCRIPTION;LANGUAGE=en:The event that combines a UX workshop with Johannes
  Altmann and exclusive insights into the Shopware roadmap https://shopware.
 com/en/events/shopware-circle-muenchen-2026
LOCATION;LANGUAGE=en:Luise-Ullrich-Straße 14, Munich
URL:https://shopware.com/en/events/shopware-circle-muenchen-2026
IMAGE;VALUE=URI;DISPLAY=THUMBNAIL;FMTTYPE=image/svg:https://images.ctfassets.net/nqzs8zsepqpi/11TvehDnorbDhWqDG1wuiX/36f79992d7f63bcdfe4580e2e17f4f24/Shopware-Circle_Muenchen_dark_transparent.svg
END:VEVENT
BEGIN:VEVENT
UID:7418b04b-2581-4394-a762-9504640e11ed@shopware.com
DTSTAMP:20261105T080000Z
DTSTART:20261105T080000Z
DTEND:20261105T200000Z
SUMMARY;LANGUAGE=en:Shopware Circle Köln 2026
DESCRIPTION;LANGUAGE=en:The event that combines a UX workshop with Johannes
  Altmann and exclusive insights into the Shopware roadmap https://shopware.
 com/en/events/shopware-circle-koeln-2026
LOCATION;LANGUAGE=en:Am Kabellager 11, Cologne
URL:https://shopware.com/en/events/shopware-circle-koeln-2026
IMAGE;VALUE=URI;DISPLAY=THUMBNAIL;FMTTYPE=image/svg:https://images.ctfassets.net/nqzs8zsepqpi/5SHSva29sFLK48XCLRGYQk/d4638ff5bf96eab6f788267fecb11069/Shopware-Circle_Koeln_dark_transparent.svg
END:VEVENT
BEGIN:VEVENT
UID:b5b0f19e-0b22-4c9e-a048-4666a6db3c40@shopware.com
DTSTAMP:20260505T090000Z
DTSTART:20260505T090000Z
DTEND:20260506T160000Z
SUMMARY;LANGUAGE=en:OMR Festival 2026
DESCRIPTION;LANGUAGE=en:We'll be at the OMR Festival in Hamburg at the Moll
 ie stand in hall A4, E05.2! 🚀 Look forward to two days full of digital pow
 er with top speakers, masterclasses, music & networking. Visit us and disco
 ver how we make e-commerce scalable together! https://www.shopware.com/en/e
 vents/omr-festival-2026/
LOCATION;LANGUAGE=en:Messeplatz 1 , Hamburg
URL:https://www.shopware.com/en/events/omr-festival-2026/
IMAGE;VALUE=URI;DISPLAY=THUMBNAIL;FMTTYPE=image/png:https://images.ctfassets.net/nqzs8zsepqpi/5eGXXFGSJDDOWDA05EwQY3/84632ec0ae989b3dcb6eaa3b0f5a2a09/OMR_Logo_schwarz_RGB.png
END:VEVENT
BEGIN:VEVENT
UID:ac14826d-baca-4027-b7e0-2ef752dbfdf4@shopware.com
DTSTAMP:20260429T070000Z
DTSTART:20260429T070000Z
DTEND:20260428T220000Z
SUMMARY;LANGUAGE=en:Netformic Experience Day
DESCRIPTION;LANGUAGE=en:An event focused on real-world digitalization in th
 e mid-market, featuring practical insights and use cases with our partner N
 etformic https://shopware.com/en/events/netformic-experience-day
LOCATION;LANGUAGE=en:Stuttgart
URL:https://shopware.com/en/events/netformic-experience-day
IMAGE;VALUE=URI;DISPLAY=THUMBNAIL;FMTTYPE=image/png:https://images.ctfassets.net/nqzs8zsepqpi/1grY0K4QLqxLULPzblR5zb/6570a4fc06ed05822f26f5cbb84157e2/netformic-1.png
END:VEVENT
BEGIN:VEVENT
UID:ac08a149-e6cf-4cb5-8bfa-2c651571bfb5@shopware.com
DTSTAMP:20260512T160000Z
DTSTART:20260512T160000Z
DTEND:20260512T190000Z
SUMMARY;LANGUAGE=en:Shopware Stammtisch Münster
DESCRIPTION;LANGUAGE=en:Fachlicher Austausch zu Shopware - ehrlich, ohne Ma
 rketingsprech. Am 12. Mai im PIRO Münster. Bring dein Thema mit. https://ww
 w.eventbrite.de/e/1987807427526?aff=oddtdtcreator
LOCATION;LANGUAGE=en:Hafenweg 16, Münster
URL:https://www.eventbrite.de/e/1987807427526?aff=oddtdtcreator
IMAGE;VALUE=URI;DISPLAY=THUMBNAIL;FMTTYPE=image/png:https://images.ctfassets.net/nqzs8zsepqpi/4Vo7iAApRfU0BJM14kirlY/d7f1b4cf3f4ef68d4e7946e30e76c9d2/Stammtisch-Muenster.png
END:VEVENT
BEGIN:VEVENT
UID:591053ca-f0c7-41ba-be60-9e81178d7ee2@shopware.com
DTSTAMP:20260609T150000Z
DTSTART:20260609T150000Z
DTEND:20260610T000000Z
SUMMARY;LANGUAGE=en:Webmatch SCD Warmup
DESCRIPTION;LANGUAGE=en:Perfektes Warm-up für den SCD26. Webmatch lädt am 9
 . Juni ins Café Fleur in Köln zum Community-Pre-Event ein.  https://www.eve
 ntbrite.de/e/das-inoffizielle-webmatch-scd26-warmup-tickets-1983538180092
LOCATION;LANGUAGE=en:Köln
URL:https://www.eventbrite.de/e/das-inoffizielle-webmatch-scd26-warmup-tickets-
 1983538180092
IMAGE;VALUE=URI;DISPLAY=THUMBNAIL;FMTTYPE=image/jpeg:https://images.ctfassets.net/nqzs8zsepqpi/5v02FS4VO9eUdeI8dmbTBx/6699a103761dba0275b0d629dab6e825/webmatch.jpeg
END:VEVENT
BEGIN:VEVENT
UID:722ebf40-10b2-4296-953f-f91dd82da06b@shopware.com
DTSTAMP:20260528T160000Z
DTSTART:20260528T160000Z
DTEND:20260528T203000Z
SUMMARY;LANGUAGE=en:Shopware Experience Series
DESCRIPTION;LANGUAGE=en:Erlebe die Shopware Experience Series in Hamburg: E
 xklusive Einblicke in Sawade Berlin, Praliné- & Wein-Tasting, Networking un
 d inspirierende E-Commerce-Cases im Occhio Store. https://www.shopware.com/
 de/events/shopware-experience-series/
LOCATION;LANGUAGE=en:Rathausmarkt 5, Hamburg
URL:https://www.shopware.com/de/events/shopware-experience-series/
IMAGE;VALUE=URI;DISPLAY=THUMBNAIL;FMTTYPE=image/svg:https://images.ctfassets.net/nqzs8zsepqpi/1QpalaqpkTYUuSoIv7TfBl/d176371d655b4b43ecdd1df2d5e2d6ff/shopware_logo_brand.svg
END:VEVENT
END:VCALENDAR
